Workbook
Name Amont_Charbon: 'Scopes GES'!#REF!
Name Amont_Charbon: 'Scopes GES'!#REF!
Name Amont_Charbon: 'Scopes GES'!#REF!
Name Amont_Charbon: 'Scopes GES'!#REF!
Name Amont_Essence: 'Scopes GES'!#REF!
Name Amont_Essence: 'Scopes GES'!#REF!
Name Amont_Essence: 'Scopes GES'!#REF!
Name Amont_Essence: 'Scopes GES'!#REF!
Name Amont_FioulDom: 'Scopes GES'!#REF!
Name Amont_FioulDom: 'Scopes GES'!#REF!
Name Amont_FioulDom: 'Scopes GES'!#REF!
Name Amont_FioulDom: 'Scopes GES'!#REF!
Name Amont_FioulLourd: 'Scopes GES'!#REF!
Name Amont_FioulLourd: 'Scopes GES'!#REF!
Name Amont_FioulLourd: 'Scopes GES'!#REF!
Name Amont_FioulLourd: 'Scopes GES'!#REF!
Name Amont_GazNaturel: 'Scopes GES'!#REF!
Name Amont_GazNaturel: 'Scopes GES'!#REF!
Name Amont_GazNaturel: 'Scopes GES'!#REF!
Name Amont_GazNaturel: 'Scopes GES'!#REF!
Name Amont_Gazole: 'Scopes GES'!#REF!
Name Amont_Gazole: 'Scopes GES'!#REF!
Name Amont_Gazole: 'Scopes GES'!#REF!
Name Amont_Gazole: 'Scopes GES'!#REF!
Name Amont_GPL: 'Scopes GES'!#REF!
Name Amont_GPL: 'Scopes GES'!#REF!
Name Amont_GPL: 'Scopes GES'!#REF!
Name Amont_GPL: 'Scopes GES'!#REF!
Name SC_Biogaz: 'Sources & Coefficients'!$B$32
Name SC_Biomasse: 'Sources & Coefficients'!#REF!
Name SC_Biomasse: 'Sources & Coefficients'!#REF!
Name SC_Biomasse: 'Sources & Coefficients'!#REF!
Name SC_Biomasse: 'Sources & Coefficients'!#REF!
Name SC_Charbon: 'Sources & Coefficients'!$B$57
Name SC_Electricite: 'Sources & Coefficients'!$B$11
Name SC_Essence: 'Sources & Coefficients'!$B$44
Name SC_FioulDom: 'Sources & Coefficients'!$B$50
Name SC_FioulLourd: 'Sources & Coefficients'!$B$53
Name SC_GazNaturel: 'Sources & Coefficients'!$B$13
Name SC_Gazole: 'Sources & Coefficients'!$B$47
Name SC_GPL: 'Sources & Coefficients'!$B$27
Name SC_Hydrogene: 'Sources & Coefficients'!$B$36

Sheet 🏠 Accueil
B2: ⚡ CALCULETTE DE CONVERSION ÉNERGÉTIQUE
B3: OBJECTIF
B4: Pensé pour les référents énergie de l'industrie, cet outil permet d'additionner les consommations d'énergies finales, exprimées dans différentes unités, et d'établir un bilan énergétique des consommations. À titre indicatif, l'outil indique les émissions de CO2 équivalentes des consommations d'énergie dans l'optique d'établir un bilan des gaz à effet de serre. La base Carbone® de l'ADEME est utilisée pour les conversions.
B5: 🎨 CODE COULEUR
B6: SAISIE | C6: vous saisissez vos données dans ces cellules
B7: PARAMÈTRE | C7: Les valeurs de référence (PCI, densité, FE…) sont modifiables. Le référent énergie a la possibilité de modifier ces paramètres en fonction des facteurs transmis par ses propres fournisseurs d'énergie.
B8: RÉSULTAT | C8: ne pas modifier les formules
B9: INFO | C9: texte explicatif (hypothèses, sources, conseils)
B11: 🧭 LIENS VERS LES ONGLETS : QUE VOULEZ-VOUS CONVERTIR ?
B12: → Unité d'énergie vers une autre | D12: Onglet « Conversions Unités »
B13: → Électricité | D13: Onglet « Electricité »
B14: → Gaz naturel | D14: Onglet « Gaz Naturel »
B15: → Propane | D15: Onglet « Gaz Propane »
B16: → Butane | D16: Onglet « Gaz Butane »
B17: → GPL 50-50 | D17: Onglet « Gaz GPL 50-50 »
B18: → Biométhane | D18: Onglet « Biométhane »
B19: → Hydrogène (kg ↔ Nm³, kWh, tep · gris/vert) | D19: Onglet « Hydrogène » (à venir)
B20: → Biomasse / bois énergie (tonne ↔ m³, MWh, tep) | D20: Onglet « Biomasse » (à venir)
B21: → Essence, gazole (litre, kg → MWh, CO₂) | D21: Onglet « Essences - Gazole » (à venir)
B22: → Fioul domestique ou fioul lourd (litre/tonne → énergie, CO₂) | D22: Onglet « Fioul domestique - Lourd » (à venir)
B23: → Charbon (tonne → MWh, CO₂ · selon rang) | D23: Onglet « Charbon » (à venir)
... B25: → Rappel sur les scopes du bilan de gaz à effet de serre | D25: Onglet « Scopes GES »
B27: 📚 QUELQUES NOTIONS DE BASE
B28: PCI ou PCS ? | D28: PCI (Pouvoir Calorifique Inférieur) : C'est l'énergie totale moins l'énergie de condensation de la vapeur d'eau. PCS (Pouvoir Calorifique Supérieur) : énergie totale (avec condensation). Utilisé pour la facturation gaz France.
B29: Le FE (facteur d'emission) électricité change chaque année | D29: Toujours utiliser la valeur de l'année concernée par le bilan, à actualiser sur base-empreinte.ademe.fr.
B30: Énergie primaire ≠ énergie finale | D30: L'énergie primaire est utilisée notamment pour la réglementation thermique du bâtiment neuf. Pour un Bilan des émissions de gas à effet de serre ou un audit industriel : rester en énergie finale.
B31: Précision des données | D31: La donnée numérique renseignée par l'utilisateur tient compte du nombre de chiffre significatif (précision de la donnée renseignée)
B33: 🎯 EXEMPLE PAS-À-PAS
B34: « J'ai consommé 50 000 Nm³ de gaz naturel cette année. Combien cela représente-t-il en MWh et en émissions CO₂ ? »
B35: ① Ouvrir l'onglet « Gaz Naturel »
B36: ② Dans la zone SAISIE (jaune) : taper 50000 dans la cellule « Valeur à convertir »
B37: ③ Dans le menu déroulant à côté : sélectionner « Nm³ » (unité de votre compteur)
B38: ④ Lire dans la zone RÉSULTATS (vert) : 527 MWh PCI · 41 tep · 97 140 kgCO₂e (scope 1)
B41: Mise à jour : Version octobre 2026

Sheet Conversions Unités
B1: Retour Accueil
B2: ⚡ CONVERTISSEUR D'UNITÉS D'ÉNERGIE
B3: 📥 SAISIE
B4: Valeur à convertir | C4: Unité d'entrée
B5: 1 | C5: MWh
B7: 🎯 RÉSULTATS
B9: Unité | C9: Résultat | E9: Unité | F9: Résultat | H9: Unité | I9: Résultat
B10: Wh | C10: =IFERROR(IF(OR($B$5="",$B$5=0),0,$B$5*VLOOKUP($C$5,'Sources & Coefficients'!$B$68:$C$79,2,0)/VLOOKUP(B10,'Sources & Coefficients'!$B$68:$C$79,2,0)),"—") -> 1000000 | E10: J | F10: =IFERROR(IF(OR($B$5="",$B$5=0),0,$B$5*VLOOKUP($C$5,'Sources & Coefficients'!$B$68:$C$79,2,0)/VLOOKUP(E10,'Sources & Coefficients'!$B$68:$C$79,2,0)),"—") -> 3.6e+09 | H10: tep PCI | I10: =IFERROR(IF(OR($B$5="",$B$5=0),0,$B$5*VLOOKUP($C$5,'Sources & Coefficients'!$B$68:$C$79,2,0)/VLOOKUP(H10,'Sources & Coefficients'!$B$68:$C$79,2,0)),"—") -> 0.085984523
B11: kWh | C11: =IFERROR(IF(OR($B$5="",$B$5=0),0,$B$5*VLOOKUP($C$5,'Sources & Coefficients'!$B$68:$C$79,2,0)/VLOOKUP(B11,'Sources & Coefficients'!$B$68:$C$79,2,0)),"—") -> 1000 | E11: kJ | F11: =IFERROR(IF(OR($B$5="",$B$5=0),0,$B$5*VLOOKUP($C$5,'Sources & Coefficients'!$B$68:$C$79,2,0)/VLOOKUP(E11,'Sources & Coefficients'!$B$68:$C$79,2,0)),"—") -> 3600000 | H11: Btu | I11: =IFERROR(IF(OR($B$5="",$B$5=0),0,$B$5*VLOOKUP($C$5,'Sources & Coefficients'!$B$68:$C$79,2,0)/VLOOKUP(H11,'Sources & Coefficients'!$B$68:$C$79,2,0)),"—") -> 3412141.2
B12: MWh | C12: =IFERROR(IF(OR($B$5="",$B$5=0),0,$B$5*VLOOKUP($C$5,'Sources & Coefficients'!$B$68:$C$79,2,0)/VLOOKUP(B12,'Sources & Coefficients'!$B$68:$C$79,2,0)),"—") -> 1 | E12: GJ | F12: =IFERROR(IF(OR($B$5="",$B$5=0),0,$B$5*VLOOKUP($C$5,'Sources & Coefficients'!$B$68:$C$79,2,0)/VLOOKUP(E12,'Sources & Coefficients'!$B$68:$C$79,2,0)),"—") -> 3.6 | H12: kBtu | I12: =IFERROR(IF(OR($B$5="",$B$5=0),0,$B$5*VLOOKUP($C$5,'Sources & Coefficients'!$B$68:$C$79,2,0)/VLOOKUP(H12,'Sources & Coefficients'!$B$68:$C$79,2,0)),"—") -> 3412.1412
B13: GWh | C13: =IFERROR(IF(OR($B$5="",$B$5=0),0,$B$5*VLOOKUP($C$5,'Sources & Coefficients'!$B$68:$C$79,2,0)/VLOOKUP(B13,'Sources & Coefficients'!$B$68:$C$79,2,0)),"—") -> 0.001 | E13: kcal | F13: =IFERROR(IF(OR($B$5="",$B$5=0),0,$B$5*VLOOKUP($C$5,'Sources & Coefficients'!$B$68:$C$79,2,0)/VLOOKUP(E13,'Sources & Coefficients'!$B$68:$C$79,2,0)),"—") -> 860420.65 | H13: MMBtu | I13: =IFERROR(IF(OR($B$5="",$B$5=0),0,$B$5*VLOOKUP($C$5,'Sources & Coefficients'!$B$68:$C$79,2,0)/VLOOKUP(H13,'Sources & Coefficients'!$B$68:$C$79,2,0)),"—") -> 3.4121412
B15: 🔑 Les facteurs sont stockés dans l'onglet « Sources & Coefficients ».
B16: 📚 Sources : voir onglet « Sources & Coefficients » → cliquer ici

Sheet Electricité
B1: Retour Accueil
B2: ⚡ ÉLECTRICITÉ — Mix réseau France
B3: 1 Wh <-> 3600 Joules
B4: 📥 SAISIE — VOTRE VALEUR À CONVERTIR
B5: Vecteur | C5: Valeur | D5: Unité d'entrée
B6: Electricité | C6: 1 | D6: MWh
B8: 🎯 RÉSULTATS DE CONVERSION
B10: Unité cible | C10: Résultat | D10: Unité résultat | E10: Facteur | F10: Facteur (unité) | G10: sources
B11: → kWh | C11: =IFERROR(IF(OR($C$6="",$C$6=0),0,($C$6*VLOOKUP($D$6,'Sources & Coefficients'!$B$68:$C$79,2,0))*$E$11),"—") -> 1000 | D11: kWh | E11: 1 | F11: kWh/kWh
B12: → MWh | C12: =IFERROR(IF(OR($C$6="",$C$6=0),0,($C$6*VLOOKUP($D$6,'Sources & Coefficients'!$B$68:$C$79,2,0))*$E$12),"—") -> 1 | D12: MWh | E12: 0.001 | F12: MWh/kWh
B13: → GWh | C13: =IFERROR(IF(OR($C$6="",$C$6=0),0,($C$6*VLOOKUP($D$6,'Sources & Coefficients'!$B$68:$C$79,2,0))*$E$13),"—") -> 0.001 | D13: GWh | E13: 1e-06 | F13: GWh/kWh
B14: → kWh énergie primaire | C14: =IFERROR(IF(OR($C$6="",$C$6=0),0,($C$6*VLOOKUP($D$6,'Sources & Coefficients'!$B$68:$C$79,2,0))*$E$14),"—") -> 1900 | D14: kWh EP | E14: ='Sources & Coefficients'!D12 -> 1.9 | F14: kWh EP/kWh EF | G14: -> S&C
B15: → kgCO₂e (scope 2) | C15: =IFERROR(IF(OR($C$6="",$C$6=0),0,(($C$6*VLOOKUP($D$6,'Sources & Coefficients'!$B$68:$C$79,2,0))/1000)*$E$15),"—") -> 46.1 | D15: kgCO₂e | E15: ='Sources & Coefficients'!D11 -> 46.1 | F15: kgCO₂e/MWh | G15: -> S&C
B17: 📚 Sources : voir onglet « Sources & Coefficients » → cliquer ici

Sheet Gaz Naturel
B1: Retour Accueil
B2: 🔵 GAZ NATUREL — type H, réseau France
B3: ⓘ Type H ≥93% CH₄
B4: 📐 POURQUOI L'UNITÉ DE BASE EST LE Nm³ ?
B5: L'unité de base est le Nm³ (mètre cube normal à 0°C / 1,01325 bar ou normo mètre cube). Justification : c'est l'unité du comptage physique sur les compteurs GRDF/GRTgaz. À noter : la facturation est en kWh PCS (énergie facturée par le distributeur) mais le compteur mesure un volume — c'est donc la base de tout audit énergétique et de tout recoupement consommation/facture.
B6: 📥 SAISIE — VOTRE VALEUR À CONVERTIR
B7: Vecteur | C7: Valeur | D7: Unité d'entrée
B8: Gaz Naturel | C8: 50000 | D8: Nm³
B9: Si vous souhaitez convertir vos m3 en Nm3 pensez à utiliser la calculette de conversion dédiée : | E9: https://atee.fr/document/calculette-conversion-de-pression
B10: 🎯 RÉSULTATS DE CONVERSION
B12: Unité cible | C12: Résultat | D12: Unité résultat | E12: Facteur | F12: Facteur (unité) | G12: source
B13: → Nm³ | C13: =IFERROR(IF(OR($C$8="",$C$8=0),0,($C$8*(IF($D$8="Nm³",1,IF($D$8="MWh PCS",1/$E$14,IF($D$8="MWh PCI",1/$E$15,IF($D$8="kWh PCI",1/($E$15*1000),IF($D$8="kg",1/$E$17,IF($D$8="tonne",1000/$E$17,IF($D$8="tep PCI",11630/($E$15*1000),1)))))))))*$E$13),"—") -> 50000 | D13: Nm³ | E13: 1 | F13: Nm³/Nm³
B14: → MWh PCS | C14: =IFERROR(IF(OR($C$8="",$C$8=0),0,($C$8*(IF($D$8="Nm³",1,IF($D$8="MWh PCS",1/$E$14,IF($D$8="MWh PCI",1/$E$15,IF($D$8="kWh PCI",1/($E$15*1000),IF($D$8="kg",1/$E$17,IF($D$8="tonne",1000/$E$17,IF($D$8="tep PCI",11630/($E$15*1000),1)))))))))*$E$14),"—") -> 526.5 | D14: MWh PCS | E14: ='Sources & Coefficients'!D13/1000 -> 0.01053 | F14: MWh PCS/Nm³ | G14: → S&C
B15: → MWh PCI | C15: =IFERROR(IF(OR($C$8="",$C$8=0),0,($C$8*(IF($D$8="Nm³",1,IF($D$8="MWh PCS",1/$E$14,IF($D$8="MWh PCI",1/$E$15,IF($D$8="kWh PCI",1/($E$15*1000),IF($D$8="kg",1/$E$17,IF($D$8="tonne",1000/$E$17,IF($D$8="tep PCI",11630/($E$15*1000),1)))))))))*$E$15),"—") -> 473.85 | D15: MWh PCI | E15: ='Sources & Coefficients'!D13/1000*'Sources & Coefficients'!D14 -> 0.009477 | F15: MWh PCI/Nm³ | G15: → S&C
B16: → kWh PCI | C16: =IFERROR(IF(OR($C$8="",$C$8=0),0,($C$8*(IF($D$8="Nm³",1,IF($D$8="MWh PCS",1/$E$14,IF($D$8="MWh PCI",1/$E$15,IF($D$8="kWh PCI",1/($E$15*1000),IF($D$8="kg",1/$E$17,IF($D$8="tonne",1000/$E$17,IF($D$8="tep PCI",11630/($E$15*1000),1)))))))))*$E$16),"—") -> 473850 | D16: kWh PCI | E16: =$E$15*1000 -> 9.477 | F16: kWh PCI/Nm³
B17: → kg | C17: =IFERROR(IF(OR($C$8="",$C$8=0),0,($C$8*(IF($D$8="Nm³",1,IF($D$8="MWh PCS",1/$E$14,IF($D$8="MWh PCI",1/$E$15,IF($D$8="kWh PCI",1/($E$15*1000),IF($D$8="kg",1/$E$17,IF($D$8="tonne",1000/$E$17,IF($D$8="tep PCI",11630/($E$15*1000),1)))))))))*$E$17),"—") -> 32700 | D17: kg | E17: ='Sources & Coefficients'!D15 -> 0.654 | F17: kg/Nm³ | G17: → S&C
B18: → tonne | C18: =IFERROR(IF(OR($C$8="",$C$8=0),0,($C$8*(IF($D$8="Nm³",1,IF($D$8="MWh PCS",1/$E$14,IF($D$8="MWh PCI",1/$E$15,IF($D$8="kWh PCI",1/($E$15*1000),IF($D$8="kg",1/$E$17,IF($D$8="tonne",1000/$E$17,IF($D$8="tep PCI",11630/($E$15*1000),1)))))))))*$E$18),"—") -> 32.7 | D18: tonne | E18: =$E$17/1000 -> 0.000654 | F18: tonne/Nm³
B19: → tep PCI | C19: =IFERROR(IF(OR($C$8="",$C$8=0),0,($C$8*(IF($D$8="Nm³",1,IF($D$8="MWh PCS",1/$E$14,IF($D$8="MWh PCI",1/$E$15,IF($D$8="kWh PCI",1/($E$15*1000),IF($D$8="kg",1/$E$17,IF($D$8="tonne",1000/$E$17,IF($D$8="tep PCI",11630/($E$15*1000),1)))))))))*$E$19),"—") -> 40.743766 | D19: tep PCI | E19: =$E$15*1000/11630 -> 0.00081487532 | F19: tep PCI/Nm³
B20: → kgCO₂e scope 1 (combustion) | C20: =IFERROR(IF(OR($C$8="",$C$8=0),0,($C$8*(IF($D$8="Nm³",1,IF($D$8="MWh PCS",1/$E$14,IF($D$8="MWh PCI",1/$E$15,IF($D$8="kWh PCI",1/($E$15*1000),IF($D$8="kg",1/$E$17,IF($D$8="tonne",1000/$E$17,IF($D$8="tep PCI",11630/($E$15*1000),1)))))))))*$E$20),"—") -> 97139.25 | D20: kgCO₂e | E20: =($E$15*'Sources & Coefficients'!D16) -> 1.942785 | F20: kgCO₂e/Nm³ | G20: → S&C
B23: 📚 Sources : voir onglet « Sources & Coefficients » → cliquer ici

Sheet Propane
B1: Retour Accueil
B2: PROPANE - GAZ DE PETROLE LIQUEFIE (GPL)
B3: 🟢 GPL 100% propane (densité liquide 0,51 kg/L)
B4: ⓘ 100% propane (C₃H₈) · Densité liquide 0,51 kg/L à 15°C
B5: 📐 POURQUOI LE kg ?
B6: Le propane est livré et facturé au kg (citernes, bouteilles) car son volume liquide varie fortement avec la température. La masse ne varie pas en fonction de la température.
B7: 📥 SAISIE — VOTRE VALEUR À CONVERTIR
B8: Vecteur | C8: Valeur | D8: Unité d'entrée
B9: Propane | C9: 1 | D9: MWh PCS
B10: Si vous souhaitez convertir vos m3 en Nm3 pensez à utiliser la calculette de conversion dédiée : | E10: https://atee.fr/document/calculette-conversion-de-pression
B11: 🎯 RÉSULTATS
B13: Unité cible | C13: Résultat | D13: Unité résultat | E13: Facteur | F13: Facteur (unité) | G13: source
B14: → kg | C14: =IFERROR(IF(OR($C$9="",$C$9=0),0,($C$9*(IF($D$9="kg",1,IF($D$9="tonne",1000,IF($D$9="litre",1/$E$16,IF($D$9="MWh PCI",1/$E$18,IF($D$9="kWh PCI",1/($E$18*1000),IF($D$9="tep PCI",11630/($E$18*1000),IF($D$9="MWh PCS",1/$E$17,1))))))))*$E$14)),"—") -> 71.942446 | D14: kg | E14: 1 | F14: kg/kg
B15: → tonne | C15: =IFERROR(IF(OR($C$9="",$C$9=0),0,($C$9*(IF($D$9="kg",1,IF($D$9="tonne",1000,IF($D$9="litre",1/$E$16,IF($D$9="MWh PCI",1/$E$18,IF($D$9="kWh PCI",1/($E$18*1000),IF($D$9="tep PCI",11630/($E$18*1000),IF($D$9="MWh PCS",1/$E$17,1))))))))*$E$15)),"—") -> 0.071942446 | D15: tonne | E15: 0.001 | F15: t/kg
B16: → litre | C16: =IFERROR(IF(OR($C$9="",$C$9=0),0,($C$9*(IF($D$9="kg",1,IF($D$9="tonne",1000,IF($D$9="litre",1/$E$16,IF($D$9="MWh PCI",1/$E$18,IF($D$9="kWh PCI",1/($E$18*1000),IF($D$9="tep PCI",11630/($E$18*1000),IF($D$9="MWh PCS",1/$E$17,1))))))))*$E$16)),"—") -> 139.69407 | D16: litre | E16: =1/'Sources & Coefficients'!D17 -> 1.9417476 | F16: L/kg | G16: → S&C
B17: → MWh PCS | C17: =IFERROR(IF(OR($C$9="",$C$9=0),0,($C$9*(IF($D$9="kg",1,IF($D$9="tonne",1000,IF($D$9="litre",1/$E$16,IF($D$9="MWh PCI",1/$E$18,IF($D$9="kWh PCI",1/($E$18*1000),IF($D$9="tep PCI",11630/($E$18*1000),IF($D$9="MWh PCS",1/$E$17,1))))))))*$E$17)),"—") -> 1 | D17: MWh PCS | E17: ='Sources & Coefficients'!D19/1000 -> 0.0139 | F17: MWh PCS/kg | G17: → S&C
B18: → MWh PCI | C18: =IFERROR(IF(OR($C$9="",$C$9=0),0,($C$9*(IF($D$9="kg",1,IF($D$9="tonne",1000,IF($D$9="litre",1/$E$16,IF($D$9="MWh PCI",1/$E$18,IF($D$9="kWh PCI",1/($E$18*1000),IF($D$9="tep PCI",11630/($E$18*1000),IF($D$9="MWh PCS",1/$E$17,1))))))))*$E$18)),"—") -> 0.91942446 | D18: MWh PCI | E18: ='Sources & Coefficients'!D18/1000 -> 0.01278 | F18: MWh PCI/kg | G18: → S&C
B19: → kWh PCI | C19: =IFERROR(IF(OR($C$9="",$C$9=0),0,($C$9*(IF($D$9="kg",1,IF($D$9="tonne",1000,IF($D$9="litre",1/$E$16,IF($D$9="MWh PCI",1/$E$18,IF($D$9="kWh PCI",1/($E$18*1000),IF($D$9="tep PCI",11630/($E$18*1000),IF($D$9="MWh PCS",1/$E$17,1))))))))*$E$19)),"—") -> 919.42446 | D19: kWh PCI | E19: =$E$18*1000 -> 12.78 | F19: kWh PCI/kg
B20: → tep PCI | C20: =IFERROR(IF(OR($C$9="",$C$9=0),0,($C$9*(IF($D$9="kg",1,IF($D$9="tonne",1000,IF($D$9="litre",1/$E$16,IF($D$9="MWh PCI",1/$E$18,IF($D$9="kWh PCI",1/($E$18*1000),IF($D$9="tep PCI",11630/($E$18*1000),IF($D$9="MWh PCS",1/$E$17,1))))))))*$E$20)),"—") -> 0.079056273 | D20: tep PCI | E20: =$E$18*1000/11630 -> 0.0010988822 | F20: tep PCI/kg
B21: → kgCO₂e scope 1 (combustion) | C21: =IFERROR(IF(OR($C$9="",$C$9=0),0,($C$9*(IF($D$9="kg",1,IF($D$9="tonne",1000,IF($D$9="litre",1/$E$16,IF($D$9="MWh PCI",1/$E$18,IF($D$9="kWh PCI",1/($E$18*1000),IF($D$9="tep PCI",11630/($E$18*1000),IF($D$9="MWh PCS",1/$E$17,1))))))))*$E$21)),"—") -> 217.26619 | D21: kgCO₂e | E21: ='Sources & Coefficients'!D21 -> 3.02 | F21: kgCO₂e/kg | G21: → S&C
B24: 📚 Sources : voir onglet « Sources & Coefficients » → cliquer ici

Sheet Butane
B1: Retour Accueil
B2: BUTANE - GAZ DE PETROLE LIQUEFIE (GPL)
B3: 🟢 GPL 100% butane (densité liquide 0,550 kg/L)
B4: ⓘ 100% propane (C₃H₈) · Densité liquide 0,55 kg/L à 15°C
B5: 📐 POURQUOI LE kg ?
B6: Le butane est livré et facturé au kg (citernes, bouteilles) car son volume liquide varie fortement avec la température. La masse ne varie pas en fonction de la témpérature.
B7: 📥 SAISIE — VOTRE VALEUR À CONVERTIR
B8: Vecteur | C8: Valeur | D8: Unité d'entrée
B9: Butane | C9: 1 | D9: MWh PCS
B10: Si vous souhaitez convertir vos m3 en Nm3 pensez à utiliser la calculette de conversion dédiée : | E10: https://atee.fr/document/calculette-conversion-de-pression
B11: 🎯 RÉSULTATS
B13: Unité cible | C13: Résultat | D13: Unité résultat | E13: Facteur | F13: Facteur (unité) | G13: source
B14: → kg | C14: =IFERROR(IF(OR($C$9="",$C$9=0),0,($C$9*(IF($D$9="kg",1,IF($D$9="tonne",1000,IF($D$9="litre",1/$E$16,IF($D$9="MWh PCI",1/$E$18,IF($D$9="kWh PCI",1/($E$18*1000),IF($D$9="tep PCI",11630/($E$18*1000),IF($D$9="MWh PCS",1/$E$17,1))))))))*$E$14)),"—") -> 72.463768 | D14: kg | E14: 1 | F14: kg/kg
B15: → tonne | C15: =IFERROR(IF(OR($C$9="",$C$9=0),0,($C$9*(IF($D$9="kg",1,IF($D$9="tonne",1000,IF($D$9="litre",1/$E$16,IF($D$9="MWh PCI",1/$E$18,IF($D$9="kWh PCI",1/($E$18*1000),IF($D$9="tep PCI",11630/($E$18*1000),IF($D$9="MWh PCS",1/$E$17,1))))))))*$E$15)),"—") -> 0.072463768 | D15: tonne | E15: 0.001 | F15: t/kg
B16: → litre | C16: =IFERROR(IF(OR($C$9="",$C$9=0),0,($C$9*(IF($D$9="kg",1,IF($D$9="tonne",1000,IF($D$9="litre",1/$E$16,IF($D$9="MWh PCI",1/$E$18,IF($D$9="kWh PCI",1/($E$18*1000),IF($D$9="tep PCI",11630/($E$18*1000),IF($D$9="MWh PCS",1/$E$17,1))))))))*$E$16)),"—") -> 123.86969 | D16: litre | E16: =1/'Sources & Coefficients'!D22 -> 1.7094017 | F16: L/kg | G16: → S&C
B17: → MWh PCS | C17: =IFERROR(IF(OR($C$9="",$C$9=0),0,($C$9*(IF($D$9="kg",1,IF($D$9="tonne",1000,IF($D$9="litre",1/$E$16,IF($D$9="MWh PCI",1/$E$18,IF($D$9="kWh PCI",1/($E$18*1000),IF($D$9="tep PCI",11630/($E$18*1000),IF($D$9="MWh PCS",1/$E$17,1))))))))*$E$17)),"—") -> 1 | D17: MWh PCS | E17: ='Sources & Coefficients'!D24/1000 -> 0.0138 | F17: MWh PCS/kg | G17: → S&C
B18: → MWh PCI | C18: =IFERROR(IF(OR($C$9="",$C$9=0),0,($C$9*(IF($D$9="kg",1,IF($D$9="tonne",1000,IF($D$9="litre",1/$E$16,IF($D$9="MWh PCI",1/$E$18,IF($D$9="kWh PCI",1/($E$18*1000),IF($D$9="tep PCI",11630/($E$18*1000),IF($D$9="MWh PCS",1/$E$17,1))))))))*$E$18)),"—") -> 0.91811594 | D18: MWh PCI | E18: ='Sources & Coefficients'!D23/1000 -> 0.01267 | F18: MWh PCI/kg | G18: → S&C
B19: → kWh PCI | C19: =IFERROR(IF(OR($C$9="",$C$9=0),0,($C$9*(IF($D$9="kg",1,IF($D$9="tonne",1000,IF($D$9="litre",1/$E$16,IF($D$9="MWh PCI",1/$E$18,IF($D$9="kWh PCI",1/($E$18*1000),IF($D$9="tep PCI",11630/($E$18*1000),IF($D$9="MWh PCS",1/$E$17,1))))))))*$E$19)),"—") -> 918.11594 | D19: kWh PCI | E19: =$E$18*1000 -> 12.67 | F19: kWh PCI/kg
B20: → tep PCI | C20: =IFERROR(IF(OR($C$9="",$C$9=0),0,($C$9*(IF($D$9="kg",1,IF($D$9="tonne",1000,IF($D$9="litre",1/$E$16,IF($D$9="MWh PCI",1/$E$18,IF($D$9="kWh PCI",1/($E$18*1000),IF($D$9="tep PCI",11630/($E$18*1000),IF($D$9="MWh PCS",1/$E$17,1))))))))*$E$20)),"—") -> 0.078943761 | D20: tep PCI | E20: =$E$18*1000/11630 -> 0.0010894239 | F20: tep PCI/kg
B21: → kgCO₂e scope 1 (combustion) | C21: =IFERROR(IF(OR($C$9="",$C$9=0),0,($C$9*(IF($D$9="kg",1,IF($D$9="tonne",1000,IF($D$9="litre",1/$E$16,IF($D$9="MWh PCI",1/$E$18,IF($D$9="kWh PCI",1/($E$18*1000),IF($D$9="tep PCI",11630/($E$18*1000),IF($D$9="MWh PCS",1/$E$17,1))))))))*$E$21)),"—") -> 218.84058 | D21: kgCO₂e | E21: ='Sources & Coefficients'!D26 -> 3.02 | F21: kgCO₂e/kg | G21: → S&C
B24: 📚 Sources : voir onglet « Sources & Coefficients » → cliquer ici

Sheet GPL 50-50
B1: Retour Accueil
B2: GAZ DE PETROLE LIQUEFIE (GPL)
B3: 🟢 GPL carburant (densité liquide 0,568 kg/L)
B4: ⓘ Mélange conventionnel de butane (C₄H₁₀) et de propane (C₃H₈) · Densité liquide 0,568 kg/L à 15°C Les données sont prises pour un GPL conventionnel. L'utilisateur doit les modifier en fonction de la composition de son propre GPL.
B5: 📐 POURQUOI LE kg ?
B6: Le GPL est livré et facturé au kg (citernes, bouteilles) car son volume liquide dépend fortement de la composition butane/propane et de la température. La masse ne varie pas en fonction de la température.
B7: 📥 SAISIE — VOTRE VALEUR À CONVERTIR
B8: Vecteur | C8: Valeur | D8: Unité d'entrée
B9: GPL carburant | C9: 1 | D9: MWh PCS
B11: 🎯 RÉSULTATS
B13: Unité cible | C13: Résultat | D13: Unité résultat | E13: Facteur | F13: Facteur (unité) | G13: source
B14: → kg | C14: =IFERROR(IF(OR($C$9="",$C$9=0),0,($C$9*(IF($D$9="kg",1,IF($D$9="tonne",1000,IF($D$9="litre",1/$E$16,IF($D$9="MWh PCI",1/$E$18,IF($D$9="kWh PCI",1/($E$18*1000),IF($D$9="tep PCI",11630/($E$18*1000),IF($D$9="MWh PCS",1/$E$17,1))))))))*$E$14)),"—") -> 72.463768 | D14: kg | E14: 1 | F14: kg/kg
B15: → tonne | C15: =IFERROR(IF(OR($C$9="",$C$9=0),0,($C$9*(IF($D$9="kg",1,IF($D$9="tonne",1000,IF($D$9="litre",1/$E$16,IF($D$9="MWh PCI",1/$E$18,IF($D$9="kWh PCI",1/($E$18*1000),IF($D$9="tep PCI",11630/($E$18*1000),IF($D$9="MWh PCS",1/$E$17,1))))))))*$E$15)),"—") -> 0.072463768 | D15: tonne | E15: 0.001 | F15: t/kg
B16: → litre | C16: =IFERROR(IF(OR($C$9="",$C$9=0),0,($C$9*(IF($D$9="kg",1,IF($D$9="tonne",1000,IF($D$9="litre",1/$E$16,IF($D$9="MWh PCI",1/$E$18,IF($D$9="kWh PCI",1/($E$18*1000),IF($D$9="tep PCI",11630/($E$18*1000),IF($D$9="MWh PCS",1/$E$17,1))))))))*$E$16)),"—") -> 134.69102 | D16: litre | E16: =1/'Sources & Coefficients'!D27 -> 1.8587361 | F16: L/kg | G16: → S&C
B17: → MWh PCS | C17: =IFERROR(IF(OR($C$9="",$C$9=0),0,($C$9*(IF($D$9="kg",1,IF($D$9="tonne",1000,IF($D$9="litre",1/$E$16,IF($D$9="MWh PCI",1/$E$18,IF($D$9="kWh PCI",1/($E$18*1000),IF($D$9="tep PCI",11630/($E$18*1000),IF($D$9="MWh PCS",1/$E$17,1))))))))*$E$17)),"—") -> 1 | D17: MWh PCS | E17: ='Sources & Coefficients'!D29/1000 -> 0.0138 | F17: MWh PCS/kg | G17: → S&C
B18: → MWh PCI | C18: =IFERROR(IF(OR($C$9="",$C$9=0),0,($C$9*(IF($D$9="kg",1,IF($D$9="tonne",1000,IF($D$9="litre",1/$E$16,IF($D$9="MWh PCI",1/$E$18,IF($D$9="kWh PCI",1/($E$18*1000),IF($D$9="tep PCI",11630/($E$18*1000),IF($D$9="MWh PCS",1/$E$17,1))))))))*$E$18)),"—") -> 0.92594203 | D18: MWh PCI | E18: ='Sources & Coefficients'!D28/1000 -> 0.012778 | F18: MWh PCI/kg | G18: → S&C
B19: → kWh PCI | C19: =IFERROR(IF(OR($C$9="",$C$9=0),0,($C$9*(IF($D$9="kg",1,IF($D$9="tonne",1000,IF($D$9="litre",1/$E$16,IF($D$9="MWh PCI",1/$E$18,IF($D$9="kWh PCI",1/($E$18*1000),IF($D$9="tep PCI",11630/($E$18*1000),IF($D$9="MWh PCS",1/$E$17,1))))))))*$E$19)),"—") -> 925.94203 | D19: kWh PCI | E19: =$E$18*1000 -> 12.778 | F19: kWh PCI/kg
B20: → tep PCI | C20: =IFERROR(IF(OR($C$9="",$C$9=0),0,($C$9*(IF($D$9="kg",1,IF($D$9="tonne",1000,IF($D$9="litre",1/$E$16,IF($D$9="MWh PCI",1/$E$18,IF($D$9="kWh PCI",1/($E$18*1000),IF($D$9="tep PCI",11630/($E$18*1000),IF($D$9="MWh PCS",1/$E$17,1))))))))*$E$20)),"—") -> 0.079616683 | D20: tep PCI | E20: =$E$18*1000/11630 -> 0.0010987102 | F20: tep PCI/kg
B21: → kgCO₂e scope 1 (combustion) | C21: =IFERROR(IF(OR($C$9="",$C$9=0),0,($C$9*(IF($D$9="kg",1,IF($D$9="tonne",1000,IF($D$9="litre",1/$E$16,IF($D$9="MWh PCI",1/$E$18,IF($D$9="kWh PCI",1/($E$18*1000),IF($D$9="tep PCI",11630/($E$18*1000),IF($D$9="MWh PCS",1/$E$17,1))))))))*$E$21)),"—") -> 215.21739 | D21: kgCO₂e | E21: ='Sources & Coefficients'!D31 -> 2.97 | F21: kgCO₂e/kg | G21: → S&C
B24: 📚 Sources : voir onglet « Sources & Coefficients » → cliquer ici

Sheet Biométhane
B1: Retour Accueil
B2: 🌱 BIOMETHANE
B3: ⓘ PCI biométhane dépend du %CH₄.
B5: 📐 POURQUOI L'UNITÉ DE BASE EST LE Nm³ ?
B6: L'unité de base est le Nm³ (mètre cube normal à 0°C / 1,01325 bar ou normo mètre cube). Justification : c'est l'unité du comptage physique sur les compteurs GRDF/GRTgaz. À noter : la facturation est en kWh PCS (énergie facturée par le distributeur) mais le compteur mesure un volume — c'est donc la base de tout audit énergétique et de tout recoupement consommation/facture.
B7: 📥 SAISIE — VOTRE QUANTITÉ DE BIOMETHANE
B8: Vecteur | C8: Valeur | D8: Unité d'entrée
B9: Biogaz | C9: 100 | D9: Nm³
B11: 🎯 RÉSULTATS DE CONVERSION
B13: Unité cible | C13: Résultat | D13: Unité | E13: Facteur | F13: Facteur (unité) | G13: source
B14: → Nm³ | C14: =IFERROR(IF(OR($C$9="",$C$9=0),0,$C$9*(IF($D$9="Nm³",1,IF($D$9="m³",1,IF($D$9="kWh PCI",1/$E$17,IF($D$9="MWh PCI",1/$E$16,IF($D$9="MWh PCS",1/$E$15,1))))))*$E$14),"—") -> 100 | D14: Nm³ | E14: 1 | F14: Nm³/Nm³
B15: → MWh PCS | C15: =IFERROR(IF(OR($C$9="",$C$9=0),0,$C$9*(IF($D$9="Nm³",1,IF($D$9="m³",1,IF($D$9="kWh PCI",1/$E$17,IF($D$9="MWh PCI",1/$E$16,IF($D$9="MWh PCS",1/$E$15,1))))))*$E$15),"—") -> 1.053 | D15: MWh PCS | E15: ='Sources & Coefficients'!D33/1000 -> 0.01053 | F15: MWh PCS / Nm³ | G15: → S&C
B16: → MWh PCI | C16: =IFERROR(IF(OR($C$9="",$C$9=0),0,$C$9*(IF($D$9="Nm³",1,IF($D$9="m³",1,IF($D$9="kWh PCI",1/$E$17,IF($D$9="MWh PCI",1/$E$16,IF($D$9="MWh PCS",1/$E$15,1))))))*$E$16),"—") -> 0.9477 | D16: MWh PCI | E16: ='Sources & Coefficients'!D32/1000 -> 0.009477 | F16: MWh PCI / Nm³ | G16: → S&C
B17: → kWh PCI | C17: =IFERROR(IF(OR($C$9="",$C$9=0),0,$C$9*(IF($D$9="Nm³",1,IF($D$9="m³",1,IF($D$9="kWh PCI",1/$E$17,IF($D$9="MWh PCI",1/$E$16,IF($D$9="MWh PCS",1/$E$15,1))))))*$E$17),"—") -> 947.7 | D17: kWh PCI | E17: ='Sources & Coefficients'!D32 -> 9.477 | F17: kWh PCI / Nm³ | G17: → S&C
B18: → tep PCI | C18: =IFERROR(IF(OR($C$9="",$C$9=0),0,$C$9*(IF($D$9="Nm³",1,IF($D$9="m³",1,IF($D$9="kWh PCI",1/$E$17,IF($D$9="MWh PCI",1/$E$16,IF($D$9="MWh PCS",1/$E$15,1))))))*$E$18),"—") -> 0.090541702 | D18: tep PCI | E18: ='Sources & Coefficients'!D33/11630 -> 0.00090541702 | F18: tep PCI / Nm³
B19: → kgCO₂e scope 1 (combustion) | C19: =IFERROR(IF(OR($C$9="",$C$9=0),0,$C$9*(IF($D$9="Nm³",1,IF($D$9="m³",1,IF($D$9="kWh PCI",1/$E$17,IF($D$9="MWh PCI",1/$E$16,IF($D$9="MWh PCS",1/$E$15,1))))))*$E$19),"—") -> 0.2 | D19: kgCO₂e | E19: ='Sources & Coefficients'!D35 -> 0.002 | F19: kgCO₂e / Nm³ | G19: -> S&C
B21: 📚 Sources : voir onglet « Sources & Coefficients » → cliquer ici

Sheet Sources & Coefficients
B1: Retour Accueil
B2: 📚 SOURCES & COEFFICIENTS — Référentiel complet
B3: ⓘ Synthèse de tous les paramètres utilisés dans la calculette, avec les sources associées
B5: 📊 PARAMÈTRES UTILISÉS DANS LA CALCULETTE
B6: Vecteur | C6: Paramètre | D6: Valeur | E6: Unité | F6: Source | G6: Référence
B7: Universel | C7: 1 kWh | D7: 3 600 000 | E7: J | F7: SI | G7: décret du 3 mai 1961 n°61-501 (MaJ le 11 juin 2020)
B8: Universel | C8: 1 Btu | D8: 1 055.056 | E8: J | F8: NIST SP811 | G8: IT — Table B.9
B9: Universel | C9: 1 kcal | D9: 4 184 | E9: J | F9: NIST / IUPAC | G9: thermochimique
B10: Universel | C10: 1 tep PCI | D10: 11 630 | E10: kWh | F10: Directive EE 2012/27/UE | G10: Annexe IV p.41
B11: Électricité | C11: FE mix conso France 2025 | D11: 46.1 | E11: kgCO₂e/MWh | F11: ADEME Base Empreinte® V23.11 | G11: 46174
B12: Électricité | C12: Coefficient | D12: 1.9 | E12: kWh EP / kWh EF | F12: Valeur conventionnelle | G12: valeur prise par défaut dans le cadre de la RE2020 (arrêté juillet 2026)
B13: Gaz naturel | C13: PCS gaz H | D13: 10.53 | E13: kWh PCS/Nm³ | F13: ADEME Base Empreinte® V23.11 | G13: 46174
B14: Gaz naturel | C14: PCI/PCS | D14: 0.9 | E14: ratio | F14: ADEME Base Empreinte® V23.6 | G14: 07/2025
B15: Gaz naturel | C15: Masse volumique | D15: 0.654 | E15: kg/Nm³ | F15: ADEME Base Empreinte® V23.11 | G15: 46174
B16: Gaz naturel | C16: FE (combustion) | D16: 205 | E16: kgCO₂e/MWh PCI | F16: ADEME Base Empreinte® V23.6 | G16: 07/2025
B17: Propane | C17: Densité liquide | D17: 0.515 | E17: kg/L | F17: ADEME Base Empreinte® V23.6 | G17: 07/2025
B18: Propane | C18: PCI | D18: 12.78 | E18: kWh/kg | F18: ADEME Base Empreinte® V23.6 | G18: 07/2025
B19: Propane | C19: PCS | D19: 13.9 | E19: kWh/kg | F19: ADEME Base Empreinte® V23.6 | G19: 07/2025
B20: Propane | C20: PCI/PCS | D20: =D18/D19 -> 0.91942446 | E20: ratio
B21: Propane | C21: FE (combustion) | D21: 3.02 | E21: kgCO₂e/kg | F21: ADEME Base Empreinte® V23.6 | G21: 07/2025
B22: Butane | C22: Densité liquide | D22: 0.585 | E22: kg/L | F22: ADEME Base Empreinte® V23.6 | G22: 07/2025
B23: Butane | C23: PCI | D23: 12.67 | E23: kWh/kg | F23: ADEME Base Empreinte® V23.6 | G23: 07/2025
B24: Butane | C24: PCS | D24: 13.8 | E24: ratio | F24: ADEME Base Empreinte® V23.6 | G24: 07/2025
B25: Butane | C25: PCI/PCS | D25: =D23/D24 -> 0.91811594 | E25: ratio
B26: Butane | C26: FE (combustion) | D26: 3.02 | E26: kgCO₂e/kg | F26: ADEME Base Empreinte® V23.6 | G26: 07/2025
B27: GPL carburant | C27: Densité liquide | D27: 0.538 | E27: kg/L | F27: ADEME Base Empreinte® V23.6 | G27: 07/2025
B28: GPL carburant | C28: PCI | D28: 12.778 | E28: kWh/kg | F28: ADEME Base Empreinte® V23.6 | G28: 07/2025
B29: GPL carburant | C29: PCS | D29: 13.8 | E29: kWh/kg | F29: valeur reconstituée | G29: à partir des données butane et propane
B30: GPL carburant | C30: PCI/PCS | D30: =D28/D29 -> 0.92594203 | E30: ratio
B31: GPL carburant | C31: FE (combustion) | D31: 2.97 | E31: kgCO₂e/kg | F31: ADEME Base Empreinte® V23.6 | G31: 07/2025
B32: Biométhane | C32: PCI | D32: =D33*D14 -> 9.477 | E32: kWh PCI/Nm³ | F32: ADEME Base Empreinte® V23.6 | G32: 07/2025
B33: Biométhane | C33: PCS | D33: =D13 -> 10.53 | E33: kWh PCS/Nm³ | F33: ADEME Base Empreinte® V23.6 | G33: 07/2025
B34: Biométhane | C34: PCI/PCS | D34: =D32/D33 -> 0.9 | E34: ratio
B35: Biométhane | C35: FE (combustion) | D35: 0.002 | E35: kgCO₂e/kWh PCI | F35: ADEME Base Empreinte® V23.6 | G35: 07/2025
B36: Hydrogène | C36: PCI H₂ | D36: 33.33 | E36: kWh PCI/kg | F36: Directive EE 2012/27/UE | G36: Annexe IV
B37: Hydrogène | C37: PCS H₂ | D37: 39.41 | E37: kWh PCS/kg | F37: Directive EE 2012/27/UE | G37: Annexe IV
B38: Hydrogène | C38: Masse volumique H₂ | D38: 0.09 | E38: kg/Nm³ | F38: Propriétés gaz parfait | G38: 0°C / 1,01325 bar
B39: Hydrogène | C39: FE H₂ gris (SMR) | D39: 9-12 | E39: kgCO₂e/kg | F39: ADEME Base Empreinte® V23.6 | G39: 07/2025
B40: Hydrogène | C40: FE H₂ vert (électrolyse ENR) | D40: 0.5-2 | E40: kgCO₂e/kg | F40: ADEME Base Empreinte® V23.6 | G40: 07/2025
B41: Biomasse | C41: PCI fonction de l'humidités | D41: 2.4 à 5.4 | E41: MWh PCI/t | F41: ordre de grandeur | G41: CIBE
B42: Biomasse | C42: Densités des essences | D42: 420-780 | E42: kg/m³ | F42: ordre de grandeur | G42: FCBA / FNB / ISO 17225
B43: Biomasse | C43: FE combustion scope 1 | D43: 0 | E43: kgCO₂e/t | F43: GHG Protocol / GIEC | G43: CO₂ biogénique
B44: Essence SP95-E5 | C44: Densité | D44: 0.745 | E44: kg/L | F44: ADEME Base Empreinte® V23.6 | G44: 07/2025
B45: Essence SP95-E5 | C45: PCI | D45: 8.622 | E45: kWh/L | F45: Directive EE 2012/27/UE | G45: Annexe IV
B46: Essence SP95-E5 | C46: FE (combustion) | D46: 2.2 | E46: kgCO₂e/L | F46: ADEME Base Empreinte® V23.6 | G46: 07/2025
B47: Gazole B7 | C47: Densité | D47: 0.835 | E47: kg/L | F47: Arrêté 15/09/2006 / EN 590 | G47: Tab.1 (15°C)
B48: Gazole B7 | C48: PCI | D48: 9.706 | E48: kWh/L | F48: Directive EE 2012/27/UE | G48: Annexe IV
B49: Gazole B7 | C49: FE (combustion) | D49: 2.49 | E49: kgCO₂e/L | F49: ADEME Base Empreinte® V23.6 | G49: 07/2025
B50: Fioul domestique | C50: Densité | D50: 0.845 | E50: kg/L | F50: ADEME Base Empreinte® V23.6 | G50: 07/2025
B51: Fioul domestique | C51: PCI | D51: 11.75 | E51: MWh/t | F51: Directive EE 2012/27/UE | G51: Annexe IV
B52: Fioul domestique | C52: FE (combustion) | D52: 2.66 | E52: kgCO₂e/L | F52: ADEME Base Empreinte® V23.6 | G52: 07/2025
B53: Fioul lourd (FOL) | C53: Densité | D53: 0.97 | E53: kg/L | F53: ADEME Base Empreinte® V23.6 | G53: 07/2025
B54: Fioul lourd (FOL) | C54: PCI | D54: 11.111 | E54: MWh/t | F54: Directive EE 2012/27/UE | G54: 40 GJ/t — Annexe IV
B55: Fioul lourd (FOL) | C55: Ratio PCS/PCI | D55: 1.065 | E55: ratio | F55: ADEME Base Empreinte® V23.6 | G55: 07/2025
... B61: Charbon (tous rangs) | C61: FE (combustion) | D61: 346 | E61: kgCO₂e/MWh PCI | F61: ADEME Base Empreinte® V23.6 | G61: 07/2025
B62: Charbon (tous rangs) | C62: Ratio PCS/PCI | D62: 1.04 à 1.11 | E62: ratio | F62: ADEME Base Empreinte® V23.6 | G62: 07/2025
B64: 💡 Maintenance : les paramètres se modifient directement dans les onglets vecteurs (cellules en bleu pâle). Pour la biomasse, le rang du charbon, l'humidité et l'essence : voir les tables ci-dessous.
B66: TABLEAU FORMULE
B67: unit | C67: to_kWh | D67: note
B68: Wh | C68: 0.001 | D68: exact
B69: kWh | C69: 1 | D69: unité de référence interne
B70: MWh | C70: 1000 | D70: exact
B71: GWh | C71: 1000000 | D71: exact
B72: J | C72: 2.7777778e-07 | D72: 1 kWh = 3600000 J (NIST SP811)
B73: kJ | C73: 0.00027777778
B74: GJ | C74: 277.77778
B75: kcal | C75: 0.0011622222 | D75: 1 kcal = 4184 J (NIST/IUPAC)
B76: tep PCI | C76: 11630 | D76: 1 tep = 11630 kWh (Directive EE)
B77: Btu | C77: 0.00029307111 | D77: 1 Btu = 1055.056 J (NIST)
B78: kBtu | C78: 0.29307111
B79: MMBtu | C79: 293.07111
B83: humidite | C83: PCI_MWh_par_t | E83: essence | F83: densite_kg_par_m3 | G83: note | I83: rang | J83: PCI_MWh_par_t | K83: PCS_sur_PCI | L83: FE_kgCO2e_par_MWh_PCI | M83: note
B84: 0 % (anhydre/séché four) | C84: 5.4 | E84: Chêne / Hêtre | F84: 720 | G84: Feuillus durs — bois les plus énergétiques | I84: Anthracite | J84: 8.2 | K84: 1.04 | L84: 376 | M84: Charbon de plus haut rang · Coke métallurgique · Faible teneur en volatils
B85: 10 % | C85: 4.8 | E85: Charme | F85: 780 | G85: Feuillu dur — densité maximale | I85: Houille grasse | J85: 7.78 | K85: 1.05 | L85: 378 | M85: Charbon bitumineux riche · Cokéfaction possible
B86: 15 % | C86: 4.5 | E86: Frêne | F86: 690 | G86: Feuillu dur — bon combustible | I86: Houille (bitumineuse) | J86: 7.222 | K86: 1.052 | L86: 379 | M86: Valeur standard Arrêté 15/09/2006 · Charbon vapeur courant
B87: 20 % | C87: 4.2 | E87: Bouleau | F87: 650 | G87: Feuillu mi-dur — allumage facile | I87: Houille maigre | J87: 6.5 | K87: 1.055 | L87: 382 | M87: Charbon à faible teneur en matières volatiles
B88: 25 % | C88: 3.9 | E88: Mélèze | F88: 590 | G88: Résineux mi-dur | I88: Sub-bitumineux | J88: 5.83 | K88: 1.06 | L88: 385 | M88: Transition lignite/houille · Teneur en eau intermédiaire
B89: 30 % | C89: 3.6 | E89: Pin sylvestre | F89: 550 | G89: Résineux — PCI/m³ modéré | I89: Lignite (brun) | J89: 3.33 | K89: 1.095 | L89: 392 | M89: Charbon de bas rang · PCI très faible · Forte teneur en eau
B90: 35 % | C90: 3.3 | E90: Pin maritime | F90: 520 | G90: Résineux — beaucoup de résine | I90: Tourbe | J90: 2.22 | K90: 1.11 | L90: 380 | M90: Rang le + bas · Ressource non renouvelable à l'échelle humaine
B91: 40 % | C91: 3 | E91: Épicéa / Sapin | F91: 450 | G91: Résineux légers — PCI/m³ faible
B92: 50 % (bois vert frais) | C92: 2.4 | E92: Peuplier | F92: 420 | G92: Feuillu léger — PCI/m³ le plus faible
E93: Mixte (toutes essences) | F93: 625 | G93: Valeur moyenne conventionnelle
B94: PCI(E) = PCI(0 %) × (100 − E)/100 − 6 × E, en kWh/t, avec E l'humidité sur masse brute.
B95: https://cibe.fr/wp-content/uploads/2017/08/Referentiel-PFV.pdf

Sheet Scopes GES
B1: Retour Accueil
B2: 📘 SCOPES GES 1, 2 et 3 : Comment lire les émissions CO₂ de la calculette
B3: Le GHG Protocol classe les émissions de gaz à effet de serre en trois périmètres appelés « scopes ». Cet onglet explique à quel(s) scope(s) correspond chaque ligne « kgCO₂e » des onglets vecteurs de cette calculette. Note : Dans le cadre du bilan des émissions de gaz à effet de serre (BEGES), la réglementation française distingue les émissions directes et les émissions indirectes conformément aux articles L.229-25 et R.229-47 du Code de l'environnement.
B5: SCOPES GES 1, 2 et 3 : DÉFINITIONS
B6: 🏭 Scope 1 — Émissions directes
B7: Emissions directes de GES (des sources fixes et mobiles de combustion, des procédés hors énergie, des émissions directes fugitives...) Périmètre de la calculette -> Il inclut la combustion sur des sources possédées ou contrôlées par l'entité : chaudières, fours, groupes électrogènes, flotte de véhicules. C'est le CO₂ émis « chez soi » en brûlant le combustible.
B8: ⚡ Scope 2 — Énergie achetée et consommée
B9: Émissions indirectes liées à la consommation d'énergie produite hors du site : électricité, vapeur, chaleur, froid … Périmètre de la calculette -> Inclut dans l'onglet Electricité.
B10: 🚚 Scope 3 — Autres émissions indirectes (amont & aval)
B11: Emissions indirectes liées à tous le reste de la chaîne de valeur (extraction, transports, produits achetés, produits vendus, autres) Périmètre de la calculette -> Hors périmètre du calcul.
B13: ⚠️ POINTS D'ATTENTION
B14: • Le périmètre dépend de QUI réalise le bilan : un même flux est scope 1 pour le producteur d'énergie et scope 3 (amont) pour celui qui l'achète et le consomme.
B15: • Les facteurs d'emission et leur périmètre exact dépendent de la version de l'ADEME Base Empreinte® retenue — à actualiser périodiquement (voir onglet « Sources & Coefficients »).
